BEGIN:VCALENDAR
VERSION:2.0
PRODID:-//Cloudwell - ECPv6.15.20//NONSGML v1.0//EN
CALSCALE:GREGORIAN
METHOD:PUBLISH
X-WR-CALNAME:Cloudwell
X-ORIGINAL-URL:https://cloudwell.io
X-WR-CALDESC:Events for Cloudwell
REFRESH-INTERVAL;VALUE=DURATION:PT1H
X-Robots-Tag:noindex
X-PUBLISHED-TTL:PT1H
BEGIN:VTIMEZONE
TZID:America/New_York
BEGIN:DAYLIGHT
TZOFFSETFROM:-0500
TZOFFSETTO:-0400
TZNAME:EDT
DTSTART:20230312T070000
END:DAYLIGHT
BEGIN:STANDARD
TZOFFSETFROM:-0400
TZOFFSETTO:-0500
TZNAME:EST
DTSTART:20231105T060000
END:STANDARD
BEGIN:DAYLIGHT
TZOFFSETFROM:-0500
TZOFFSETTO:-0400
TZNAME:EDT
DTSTART:20240310T070000
END:DAYLIGHT
BEGIN:STANDARD
TZOFFSETFROM:-0400
TZOFFSETTO:-0500
TZNAME:EST
DTSTART:20241103T060000
END:STANDARD
BEGIN:DAYLIGHT
TZOFFSETFROM:-0500
TZOFFSETTO:-0400
TZNAME:EDT
DTSTART:20250309T070000
END:DAYLIGHT
BEGIN:STANDARD
TZOFFSETFROM:-0400
TZOFFSETTO:-0500
TZNAME:EST
DTSTART:20251102T060000
END:STANDARD
END:VTIMEZONE
BEGIN:VEVENT
DTSTART;TZID=America/New_York:20240210T080000
DTEND;TZID=America/New_York:20240210T160000
DTSTAMP:20260424T091843
CREATED:20240105T190035Z
LAST-MODIFIED:20250324T203901Z
UID:3175-1707552000-1707580800@cloudwell.io
SUMMARY:M365 Saturday DC
DESCRIPTION:Cloudwell is proud to be a Gold Sponsor at M365 Saturday DC\, an educational event that marks the evolution of SharePoint Saturday. This event brings together power users\, decision makers\, developers\, and administrators. Featuring sessions delivered by Microsoft platform professionals and MVPs\, it covers a range of topics including Microsoft Teams\, SharePoint\, Power Platform\, Microsoft Viva\, Azure\, and OneDrive. This event is a must-attend for those looking to deepen their understanding of Microsoft’s suite of tools. \nThere will be FOUR amazing tracks: \n\nBeginner\nSuccess Stories\nAI \nPower Platform\n\nThere will also be an opening panel discussion on Microsoft in the Federal Government. \nFor more information and to register\, visit M365 Saturday DC – A Community Day Event.
URL:https://cloudwell.io/event/m365-saturday-dc-2024/
LOCATION:Microsoft Garage DC\, 11955 Freedom Dr\, Reston\, 20190\, United States
CATEGORIES:Conference,Sponsor
ATTACH;FMTTYPE=image/png:https://cloudwell.io/wp-content/uploads/2024/01/M365-Saturday-DC-Cloudwell-Gold-Sponsor.png
END:VEVENT
END:VCALENDAR